BEGIN:VCALENDAR
VERSION:2.0
PRODID:-//Centar za kulturu Čakovec - ECPv6.15.17.1//NONSGML v1.0//EN
CALSCALE:GREGORIAN
METHOD:PUBLISH
X-WR-CALNAME:Centar za kulturu Čakovec
X-ORIGINAL-URL:https://czk-cakovec.cwebspace.hr
X-WR-CALDESC:Događaji za Centar za kulturu Čakovec
REFRESH-INTERVAL;VALUE=DURATION:PT1H
X-Robots-Tag:noindex
X-PUBLISHED-TTL:PT1H
BEGIN:VTIMEZONE
TZID:Europe/Zagreb
BEGIN:DAYLIGHT
TZOFFSETFROM:+0100
TZOFFSETTO:+0200
TZNAME:CEST
DTSTART:20250330T010000
END:DAYLIGHT
BEGIN:STANDARD
TZOFFSETFROM:+0200
TZOFFSETTO:+0100
TZNAME:CET
DTSTART:20251026T010000
END:STANDARD
BEGIN:DAYLIGHT
TZOFFSETFROM:+0100
TZOFFSETTO:+0200
TZNAME:CEST
DTSTART:20260329T010000
END:DAYLIGHT
BEGIN:STANDARD
TZOFFSETFROM:+0200
TZOFFSETTO:+0100
TZNAME:CET
DTSTART:20261025T010000
END:STANDARD
BEGIN:DAYLIGHT
TZOFFSETFROM:+0100
TZOFFSETTO:+0200
TZNAME:CEST
DTSTART:20270328T010000
END:DAYLIGHT
BEGIN:STANDARD
TZOFFSETFROM:+0200
TZOFFSETTO:+0100
TZNAME:CET
DTSTART:20271031T010000
END:STANDARD
END:VTIMEZONE
BEGIN:VEVENT
DTSTART;TZID=Europe/Zagreb:20260420T180000
DTEND;TZID=Europe/Zagreb:20260420T195000
DTSTAMP:20260420T014712
CREATED:20260413T123757Z
LAST-MODIFIED:20260413T123758Z
UID:10000981-1776708000-1776714600@czk-cakovec.cwebspace.hr
SUMMARY:MOTHER MARY
DESCRIPTION:17. – 20. travnja 2026. u 18.00 sati \n\n\n\nMOTHER MARY \n\n\n\nIzvorni naslov: Mother Mary \n\n\n\nGodina: 2026. Trajanje: 1 sat i 50 minuta \n\n\n\nŽanr: drama \n\n\n\nRedatelj: David Lowery \n\n\n\nUloge: Anne Hathway\, Michael Coel\, Hunter Schafer \n\n\n\nNakon Princeze Genovije\, Žene mačke\, asistentice najvećeg modnog časopisa i kultne Fantine iz mjuzikla Les Miserables\, glumica Anne Hathaway utjelovit će ulogu kakvu još nije – pop zvijezdu. Nakon što je izašla prva najava\, u posljednjih nekoliko dana na društvenim mrežama samo se priča o njezinom novom mračnom filmu. Riječ je o drami Mother Mary u kojoj Hathaway ima glavnu ulogu. \n\n\n\nNajava otkriva jezivu i mračnu atmosferu upotpunjenu pop glazbom na kojoj su radili producent Jack Antonoff\, Charlie XCX i FKA Twigs koja ima i jednu od manjih uloga u filmu. Davno zakopane rane izranjaju na površinu kada se kultna pop zvijezda Mother Mary (Hathaway) ponovno ujedini sa svojom otuđenom najboljom prijateljicom i bivšom kostimografkinjom\, Sam Anselmom (Michaela Coen)\, uoči svog povratničkog nastupa\, stoji u službenom opisu filma. Radnja se tako uvelike fokusira na dinamiku između dvije žene\, a činjenica da se više detalja o radnji ne zna\, samo ide u prilog misterioznoj atmosferi koja se osjeća iz najave.
URL:https://czk-cakovec.cwebspace.hr/event/mother-mary-4/
LOCATION:Dvorana CZK
CATEGORIES:Film
ATTACH;FMTTYPE=image/webp:https://czk-cakovec.cwebspace.hr/wp-content/uploads/2026/03/Feature-Image-1-edDUvr.webp
END:VEVENT
BEGIN:VEVENT
DTSTART;TZID=Europe/Zagreb:20260420T200000
DTEND;TZID=Europe/Zagreb:20260420T222000
DTSTAMP:20260420T014712
CREATED:20260413T124709Z
LAST-MODIFIED:20260413T124709Z
UID:10000985-1776715200-1776723600@czk-cakovec.cwebspace.hr
SUMMARY:MJESEC OSKAROVACA: GREŠNICI
DESCRIPTION:17. – 20. travnja 2026. u 20.00 sati \n\n\n\nGREŠNICI \n\n\n\nIzvorni naslov: Sinners \n\n\n\nGodina: 2025. Trajanje: 2 sata i 17 minuta \n\n\n\nŽanr: drama\, horor \n\n\n\nRedatelj: Ryan Coogler \n\n\n\nUloge: Michael B. Jordan\, Jack O’Connell\, Hailee Steinfeld \n\n\n\nFilm ”Sinners” redatelja Ryana Cooglera postao je povijesna senzacija nakon što je s čak 16 nominacija za Oscara oborio sve dosadašnje rekorde i nametnuo se kao jedan od najvažnijih filmskih naslova godine. Time je ”Sinners” oborio rekorde koje su godinama držali klasici kao ”Titanic”\, ”La La Land” i ”All About Eve”\, svaki s 14 nominacija. \n\n\n\nRadnja ovog jedinstvenog filmskog ostvarenja odvija se 1932. godine u Mississippi Deltu\, u vrijeme dubokih društvenih i rasnih podjela. U središtu priče su identični blizanci Elijah Smoke i Elias Stack Moore\, koje tumači Michael B. Jordan. Oni se vraćaju u rodni grad s nadom da otvore juke joint — glazbeni klub koji bi trebao postati utočište zajednice. Međutim\, njihovu viziju ubrzo prekida misteriozna i nadnaravna prijetnja — sile koje kombiniraju horor vampira s teškim temama iz stvarne prošlosti. ”Sinners” nije tipični horor — riječ je o spoju supernaturalnog\, povijesne drame\, južnjačke gotike i glazbenih elemenata. Film ujedno istražuje teme kao što su identitet\, trauma\, grijeh i kulturno naslijeđe\, posebno afroameričke blues tradicije koja je simbolično utkana u sam narativ. Na ovogodišnjem Oscar natjecanju Sinners je nominiran u ključnim kategorijama za: Najbolji film\, Najboljeg redatelja (Ryan Coogler)\, Najboljeg glavnog glumca (Michael B. Jordan)\, brojne glumačke i tehničke kategorije poput fotografije\, vizualnih efekata\, originalne glazbe\, kostima i montaže. Na 98. dodjeli nagrada Oscar®\, Sinners je osvojio četiri nagrade Akademije: Najbolji film\, Najbolja forografija\, Najbolja glavna muška uloga\, Najbolja originalna glazba. \n\n\n\nOsim rekordnih Oscar nominacija\, film je već pobrao priznanja i na drugim važnim događajima: 13 nominacija na BAFTA nagradama — najviše ikada za film koji potpisuje crni redatelj\, pri čemu je osvojio nagrade za najbolji originalni scenarij (Coogler)\, najbolju originalnu glazbu i najbolju sporednu žensku ulogu (Wunmi Mosaku) te više nominacija i nagrada na Critics’ Choice Awards i Golden Globe Awards\, uključujući priznanja za originalnu glazbu i box office uspjeh.
URL:https://czk-cakovec.cwebspace.hr/event/mjesec-oskarovaca-gresnici-5/
LOCATION:Dvorana CZK
CATEGORIES:Film
ATTACH;FMTTYPE=image/jpeg:https://czk-cakovec.cwebspace.hr/wp-content/uploads/2026/03/sinners-1-1-mJAvMP.jpg
END:VEVENT
END:VCALENDAR