BEGIN:VCALENDAR
VERSION:2.0
PRODID:-//Centar za kulturu Čakovec - ECPv6.15.17.1//NONSGML v1.0//EN
CALSCALE:GREGORIAN
METHOD:PUBLISH
X-WR-CALNAME:Centar za kulturu Čakovec
X-ORIGINAL-URL:https://czk-cakovec.cwebspace.hr
X-WR-CALDESC:Događaji za Centar za kulturu Čakovec
REFRESH-INTERVAL;VALUE=DURATION:PT1H
X-Robots-Tag:noindex
X-PUBLISHED-TTL:PT1H
BEGIN:VTIMEZONE
TZID:Europe/Zagreb
BEGIN:DAYLIGHT
TZOFFSETFROM:+0100
TZOFFSETTO:+0200
TZNAME:CEST
DTSTART:20250330T010000
END:DAYLIGHT
BEGIN:STANDARD
TZOFFSETFROM:+0200
TZOFFSETTO:+0100
TZNAME:CET
DTSTART:20251026T010000
END:STANDARD
BEGIN:DAYLIGHT
TZOFFSETFROM:+0100
TZOFFSETTO:+0200
TZNAME:CEST
DTSTART:20260329T010000
END:DAYLIGHT
BEGIN:STANDARD
TZOFFSETFROM:+0200
TZOFFSETTO:+0100
TZNAME:CET
DTSTART:20261025T010000
END:STANDARD
BEGIN:DAYLIGHT
TZOFFSETFROM:+0100
TZOFFSETTO:+0200
TZNAME:CEST
DTSTART:20270328T010000
END:DAYLIGHT
BEGIN:STANDARD
TZOFFSETFROM:+0200
TZOFFSETTO:+0100
TZNAME:CET
DTSTART:20271031T010000
END:STANDARD
END:VTIMEZONE
BEGIN:VEVENT
DTSTART;TZID=Europe/Zagreb:20260425T180000
DTEND;TZID=Europe/Zagreb:20260425T194000
DTSTAMP:20260425T131200
CREATED:20260422T114031Z
LAST-MODIFIED:20260422T114031Z
UID:10000937-1777140000-1777146000@czk-cakovec.cwebspace.hr
SUMMARY:MAČJA POSLA
DESCRIPTION:25. travnja 2026. u 16.00 sati \n\n\n\nMAČJA POSLA \n\n\n\nAnimirani obiteljski film sinkroniziran na hrvatski jezik \n\n\n\nIzvorni naslov: Miss Moxy \n\n\n\nGodina: 2026.    Trajanje: 1 sat i 39 minuta \n\n\n\nRedatelj: Vincent Bal\, Wip Vernooij \n\n\n\nJedna razmažena mačka. Jedan smušeni pas. Jedno veliko putovanje koje će promijeniti sve. Kada se razmažena kućna mačka Miss Moxy tijekom obiteljskog putovanja izgubi daleko od doma\, pred njom se otvara velika pustolovina kroz jug Europe. Kako bi pronašla put kući\, morat će učiniti nešto što joj se čini nezamislivim – zatražiti pomoć upravo od onih koje mačke najčešće izbjegavaju. Na tom putovanju pridružuju joj se Brute\, dobrodušan ali pomalo nespretan pas\, i Ayo\, stara i mudra lastavica. Zajedno kreću na nepredvidivo putovanje puno smiješnih zgoda\, izazova i novih prijateljstava. Tijekom ove pustolovine Moxy će naučiti slušati vlastiti glas i shvatiti da su je prijašnje predrasude prema drugima često navodile na pogrešne zaključke. Otkrit će pravo značenje prijateljstva – i shvatiti da se najvrjednije životne lekcije često kriju upravo ondje gdje ih najmanje očekujemo.
URL:https://czk-cakovec.cwebspace.hr/event/macja-posla-2/
LOCATION:Dvorana CZK
CATEGORIES:Film
ATTACH;FMTTYPE=image/jpeg:https://czk-cakovec.cwebspace.hr/wp-content/uploads/2026/03/miss-moxy-2-scaled-Br5SPI.jpg
END:VEVENT
BEGIN:VEVENT
DTSTART;TZID=Europe/Zagreb:20260425T180000
DTEND;TZID=Europe/Zagreb:20260425T194500
DTSTAMP:20260425T131200
CREATED:20260422T113013Z
LAST-MODIFIED:20260422T113014Z
UID:10000994-1777140000-1777146300@czk-cakovec.cwebspace.hr
SUMMARY:OPROSTI\, LJUBAVI
DESCRIPTION:24. – 27. travnja 2026. u 18.00 sati \n\n\n\nOPROSTI LJUBAVI \n\n\n\nIzvorni naslov: Sorry\, Baby \n\n\n\nGodina:2025.   Trajanje: 1 sat i 43 minute \n\n\n\nŽanr: komedija\, drama \n\n\n\nRedatelj :Eva Victor \n\n\n\nUloge: Eva Victor\, Naomi Ackie\, John Carroll Lynch \n\n\n\nDobitnik nagrade za najbolji scenarij na festivalu u Sundanceu! \n\n\n\nDobitnik nagrade Udruženja kritičara SAD-a za najbolji redateljski debi! \n\n\n\nNominacija za nagradu Zlatni globus u kategoriji najbolje glumice! \n\n\n\nAgnes se dogodilo nešto strašno. No za ostatak svijeta život ide dalje. Kada joj u posjet dođe bliska prijateljica\, Agnes shvaća koliko je zapravo zaglavila i odluči se ponovno vratiti među žive. Ova topla i suosjećajna drama s elementima satire zauzima novu perspektivu u pričama o seksualnom nasilju\, te fokus s traumatičnog iskustva usmjerava na proces iscjeljenja. Film je producirao oskarovac Barry Jenkins („Moonlight“). Poznata kao glumica u seriji „Milijarde“\, Eva Victor u svom cjelovečernjem redateljskom prvijencu impresivno utjelovljuje glavnu ulogu\, a napisala je i scenarij\, za koji je nagrađena na Sundanceu.
URL:https://czk-cakovec.cwebspace.hr/event/oprosti-ljubavi-3/
LOCATION:Dvorana CZK
CATEGORIES:Film
ATTACH;FMTTYPE=image/webp:https://czk-cakovec.cwebspace.hr/wp-content/uploads/2026/03/SorryBaby_4-YT7KLL.webp
END:VEVENT
BEGIN:VEVENT
DTSTART;TZID=Europe/Zagreb:20260425T200000
DTEND;TZID=Europe/Zagreb:20260425T224500
DTSTAMP:20260425T131200
CREATED:20260422T113648Z
LAST-MODIFIED:20260422T113648Z
UID:10000999-1777147200-1777157100@czk-cakovec.cwebspace.hr
SUMMARY:MJESEC OSKAROVACA: JEDNA BITKA ZA DRUGOM
DESCRIPTION:24. – 27. travnja 2026. u 20.00 sati \n\n\n\nJEDNA BITKA ZA DRUGOM \n\n\n\nIzvorni naslov: One Battle After Another \n\n\n\nGodina: 2025. Trajanje: 2 sata i 41 minuta \n\n\n\nŽanr:triler\, komedija \n\n\n\nRedatelj: Paul Thomas Anderson \n\n\n\nUloge: Leonardo DiCaprio\, Benicio Del Toro\, Sean Penn\, Regina Hall \n\n\n\nNovi film Paula Thomasa Andersona\, Jedna bitka za drugom\, inspiriran je satiričnim romanom Vineland Thomasa Pynchona\, u kojem je ovaj veliki postmodernistički pisac pružio osebujan pogled na transformaciju američkog političkog i mentalnog krajolika od revolucionarnih 1960-ih do reakcionarne Reaganove vladavine koja je obilježila 1980-e. Anderson je ažurirao zaplet romana u skladu s aktualnim stanjem SAD-a\, primijenivši Pynchonov farsičan pogled na odnos kontrakulture i kontrarevolucije na kulturne ratove koje obilježavaju društvenu i političku klimu SAD-a. Kritika je film već proglasila Andersonovim remek-djelom\, hvaleći efektan spoj bombastične akcije\, trilera i crne komedije koji savršeno dočarava konfuziju aktualnog trenutka\, pa do vrhunskih glumačkih nastupa predvođenih Leonardom DiCaprijem i Seanom Pennom u ulozi negativca. \n\n\n\nBob je ocvali revolucionar\, neprestano napušen i paranoičan. Pripadnik je naoružane grupe aktivista koja napada pritvorske centre za migrante na meksičko-američkoj granici. Njegove nevolje počinju kada mu nestane kći Willa\, a na sceni se pojavi zakleti neprijatelj iz prošlosti. \n\n\n\nFilm Jedna bitka za drugom osvojio je šest nagrada Oscara®\, najbolji film\, najbolji redatelj\, najbolja montaža\, najbolji adaptirani scenarij\, najbolji sporedni glumac i najbolji casting. Film je dobitnik Zlatnog globusa za najbolji film u kategoriji mjuzikl ili komedija\, kao i Zlatnih globusa za najbolju režiju i najbolji scenarij\, koje je osvojio Paul Thomas Anderson. Od studija Warner Bros. Pictures i od redatelja nominiranog za Oscara i dobitnika BAFTA-e\, Paula Thomasa Andersona\, stiže krimi drama s oskarovcem Leonardom DiCaprijem u glavnoj ulozi. Oskarovci Benicio del Toro i Sean Penn također glume uz Reginu Hall\, Teyanu Taylor i Chasea Infinitija\, kao i Wooda Harrisa i Alanu Haim. Anderson režira prema vlastitom scenariju te producira zajedno s oskarovskim i BAFTA-nominiranim Adamom Somnerom i Sarom Murphy\, dok je Will Weiske izvršni producent.
URL:https://czk-cakovec.cwebspace.hr/event/mjesec-oskarovaca-jedna-bitka-za-drugom-3/
LOCATION:Dvorana CZK
CATEGORIES:Film
ATTACH;FMTTYPE=image/webp:https://czk-cakovec.cwebspace.hr/wp-content/uploads/2026/03/One-Battle-After-Another_imdb-5-scaled-2-scaled-O4iCC7.webp
END:VEVENT
END:VCALENDAR